BEGIN:VCALENDAR
VERSION:2.0
PRODID:-//Sabre//Sabre VObject 4.5.8//EN
CALSCALE:GREGORIAN
NAME:PG Lech-Rain
X-WR-CALNAME:PG Lech-Rain
BEGIN:VEVENT
UID:sabre-vobject-e7eda7e7-f78a-41ef-abeb-3d8d8a8d30af
DTSTAMP:20260424T124602Z
SUMMARY:Stille Anbetung bis 17 Uhr
DESCRIPTION:https://pg-lechrain.de/stille-anbetung-bis-17-uhr_id45017
DTSTART;TZID=Europe/Berlin:20260424T153000
DURATION:PT30M
END:VEVENT
BEGIN:VEVENT
UID:sabre-vobject-ce2f020b-b0d4-466e-95e5-ebe8c9ab9357
DTSTAMP:20260424T124602Z
SUMMARY:Rosenkranz
DESCRIPTION:https://pg-lechrain.de/rosenkranz_id45031
DTSTART;TZID=Europe/Berlin:20260424T160000
DURATION:PT30M
END:VEVENT
BEGIN:VEVENT
UID:sabre-vobject-eae16514-941a-43f0-b715-dc007f1e095e
DTSTAMP:20260424T124602Z
SUMMARY:Probe zur Erstkommunion
DESCRIPTION:https://pg-lechrain.de/probe-zur-erstkommunion_id45000
DTSTART;TZID=Europe/Berlin:20260424T170000
DURATION:PT30M
END:VEVENT
BEGIN:VEVENT
UID:sabre-vobject-7828dde3-6230-44bf-9ead-e46b9e3a358c
DTSTAMP:20260424T124602Z
SUMMARY:Firmbewerber-/Paten-Treffen\, f. Apf\,Birk\,Epf\,Kins\, Pfarrheim R
 ott
DESCRIPTION:https://pg-lechrain.de/firmbewerber-paten-treffen-f-apf-birk-ep
 f-kins-pfarrheim-rott_id45032
DTSTART;TZID=Europe/Berlin:20260425T093000
DURATION:PT30M
END:VEVENT
BEGIN:VEVENT
UID:sabre-vobject-0ebf35cb-9b90-4d02-b287-209b3b678707
DTSTAMP:20260424T124602Z
SUMMARY:Rosenkranz
DESCRIPTION:https://pg-lechrain.de/rosenkranz_id45013
DTSTART;TZID=Europe/Berlin:20260425T163000
DURATION:PT30M
END:VEVENT
BEGIN:VEVENT
UID:sabre-vobject-c8a5fd67-cfb3-4148-bdfb-ceed88162e1f
DTSTAMP:20260424T124602Z
SUMMARY:Rosenkranz
DESCRIPTION:https://pg-lechrain.de/rosenkranz_id45039
DTSTART;TZID=Europe/Berlin:20260425T163000
DURATION:PT30M
END:VEVENT
BEGIN:VEVENT
UID:sabre-vobject-4b2347cc-d262-4de9-baac-0fdfd83280fb
DTSTAMP:20260424T124602Z
SUMMARY:Beichte der Kommunionkinder
DESCRIPTION:https://pg-lechrain.de/beichte-der-kommunionkinder_id45001
DTSTART;TZID=Europe/Berlin:20260425T170000
DURATION:PT30M
END:VEVENT
BEGIN:VEVENT
UID:sabre-vobject-6a099fd0-8324-4102-a7b4-6bc473101599
DTSTAMP:20260424T124602Z
SUMMARY:Beichtgelegenheit
DESCRIPTION:https://pg-lechrain.de/beichtgelegenheit_id45033
DTSTART;TZID=Europe/Berlin:20260425T183000
DURATION:PT30M
END:VEVENT
BEGIN:VEVENT
UID:sabre-vobject-1c39d33a-fc82-4d62-be3c-16ff98d0ca59
DTSTAMP:20260424T124602Z
SUMMARY:Rosenkranz und Beichtgelegenheit
DESCRIPTION:https://pg-lechrain.de/rosenkranz-und-beichtgelegenheit_id45036
DTSTART;TZID=Europe/Berlin:20260425T183000
DURATION:PT30M
END:VEVENT
BEGIN:VEVENT
UID:sabre-vobject-7d895f3b-8417-4b93-b29e-14bb08253328
DTSTAMP:20260424T124602Z
SUMMARY:Vorabendmesse
DESCRIPTION:https://pg-lechrain.de/vorabendmesse_id45034
DTSTART;TZID=Europe/Berlin:20260425T190000
DURATION:PT30M
END:VEVENT
BEGIN:VEVENT
UID:sabre-vobject-de9cc2ff-706f-4fda-808a-13748fc482a5
DTSTAMP:20260424T124602Z
SUMMARY:Vorabendmesse\, Vorstellung/Verabschiedung PGR-Mitglieder
DESCRIPTION:https://pg-lechrain.de/vorabendmesse-vorstellung-verabschiedung
 -pgr-mitglieder_id45043
DTSTART;TZID=Europe/Berlin:20260425T190000
DURATION:PT30M
END:VEVENT
BEGIN:VEVENT
UID:sabre-vobject-cd871d1e-b963-4485-af7d-ef5a8bf8046d
DTSTAMP:20260424T124602Z
SUMMARY:Rosenkranz
DESCRIPTION:https://pg-lechrain.de/rosenkranz_id45021
DTSTART;TZID=Europe/Berlin:20260426T081500
DURATION:PT30M
END:VEVENT
BEGIN:VEVENT
UID:sabre-vobject-45579b47-f4c0-4ca5-b275-be7b3c17486c
DTSTAMP:20260424T124602Z
SUMMARY:Frühmesse
DESCRIPTION:https://pg-lechrain.de/fruehmesse_id45007
DTSTART;TZID=Europe/Berlin:20260426T084500
DURATION:PT30M
END:VEVENT
BEGIN:VEVENT
UID:sabre-vobject-0af14cd0-d794-4041-94a0-d11c9e0f8ff3
DTSTAMP:20260424T124602Z
SUMMARY:Frühmesse
DESCRIPTION:https://pg-lechrain.de/fruehmesse_id45023
DTSTART;TZID=Europe/Berlin:20260426T084500
DURATION:PT30M
END:VEVENT
BEGIN:VEVENT
UID:sabre-vobject-db0335a1-27e8-4bca-9d8d-62c31f2b78ba
DTSTAMP:20260424T124602Z
SUMMARY:Feierliche Erstkommunion
DESCRIPTION:https://pg-lechrain.de/feierliche-erstkommunion_id45002
DTSTART;TZID=Europe/Berlin:20260426T101500
DURATION:PT30M
END:VEVENT
BEGIN:VEVENT
UID:sabre-vobject-8f08d55a-919c-4bd0-9128-d4f92f87c56a
DTSTAMP:20260424T124602Z
SUMMARY:Fischermesse
DESCRIPTION:https://pg-lechrain.de/fischermesse_id45014
DTSTART;TZID=Europe/Berlin:20260426T101500
DURATION:PT30M
END:VEVENT
BEGIN:VEVENT
UID:sabre-vobject-b642a543-016b-4d6c-a923-c5c1b59c8d22
DTSTAMP:20260424T124602Z
SUMMARY:Dankandacht der Kommunionkinder
DESCRIPTION:https://pg-lechrain.de/dankandacht-der-kommunionkinder_id45016
DTSTART;TZID=Europe/Berlin:20260427T163000
DURATION:PT30M
END:VEVENT
BEGIN:VEVENT
UID:sabre-vobject-71d11707-3e58-426f-a36f-7a042e293899
DTSTAMP:20260424T124602Z
SUMMARY:Abendmesse
DESCRIPTION:https://pg-lechrain.de/abendmesse_id45040
DTSTART;TZID=Europe/Berlin:20260427T190000
DURATION:PT30M
END:VEVENT
BEGIN:VEVENT
UID:sabre-vobject-b599c93d-f846-407c-ad6e-faa2d68aa31e
DTSTAMP:20260424T124602Z
SUMMARY:Lesekreis im Johannes-Stüberl
DESCRIPTION:https://pg-lechrain.de/lesekreis-im-johannes-stueberl_id45035
DTSTART;TZID=Europe/Berlin:20260427T191500
DURATION:PT30M
END:VEVENT
BEGIN:VEVENT
UID:sabre-vobject-e8c9699c-a382-4b86-9f52-e055df7169d9
DTSTAMP:20260424T124602Z
SUMMARY:Abendmesse
DESCRIPTION:https://pg-lechrain.de/abendmesse_id45015
DTSTART;TZID=Europe/Berlin:20260428T190000
DURATION:PT30M
END:VEVENT
BEGIN:VEVENT
UID:sabre-vobject-7c17d4f1-0288-4469-9432-baa6578bbd09
DTSTAMP:20260424T124602Z
SUMMARY:Abendmesse
DESCRIPTION:https://pg-lechrain.de/abendmesse_id45028
DTSTART;TZID=Europe/Berlin:20260428T190000
DURATION:PT30M
END:VEVENT
BEGIN:VEVENT
UID:sabre-vobject-cef6e86b-4a7a-4b3c-8e3c-3ef6a4bc71d1
DTSTAMP:20260424T124602Z
SUMMARY:Rosenkranz für den Frieden
DESCRIPTION:https://pg-lechrain.de/rosenkranz-fuer-den-frieden_id45024
DTSTART;TZID=Europe/Berlin:20260429T170000
DURATION:PT30M
END:VEVENT
BEGIN:VEVENT
UID:sabre-vobject-0a5bd6d2-142b-4baf-8ea6-cfa334da3814
DTSTAMP:20260424T124602Z
SUMMARY:Rosenkranz
DESCRIPTION:https://pg-lechrain.de/rosenkranz_id45008
DTSTART;TZID=Europe/Berlin:20260429T183000
DURATION:PT30M
END:VEVENT
BEGIN:VEVENT
UID:sabre-vobject-15b9e4d8-b18c-4869-ae8e-1b81a4632ecb
DTSTAMP:20260424T124602Z
SUMMARY:Abendmesse
DESCRIPTION:https://pg-lechrain.de/abendmesse_id45009
DTSTART;TZID=Europe/Berlin:20260429T190000
DURATION:PT30M
END:VEVENT
BEGIN:VEVENT
UID:sabre-vobject-42f626b8-58c3-49c8-aac9-011d0d84da51
DTSTAMP:20260424T124602Z
SUMMARY:Bittgang von Haid nach Schellschwang\, dort Bittmesse
DESCRIPTION:https://pg-lechrain.de/bittgang-von-haid-nach-schellschwang-dor
 t-bittmesse_id45047
DTSTART;TZID=Europe/Berlin:20260429T190000
DURATION:PT30M
END:VEVENT
BEGIN:VEVENT
UID:sabre-vobject-3e247551-849b-4da2-9e17-a348588b3dfc
DTSTAMP:20260424T124602Z
SUMMARY:Frauentreff i. Gasthof zur Post
DESCRIPTION:https://pg-lechrain.de/frauentreff-i-gasthof-zur-post_id45048
DTSTART;TZID=Europe/Berlin:20260430T140000
DURATION:PT30M
END:VEVENT
BEGIN:VEVENT
UID:sabre-vobject-fc9ab51d-2fe7-4607-bfbd-5f2bc29d54e7
DTSTAMP:20260424T124602Z
SUMMARY:Probe zur Erstkommunion
DESCRIPTION:https://pg-lechrain.de/probe-zur-erstkommunion_id45041
DTSTART;TZID=Europe/Berlin:20260430T170000
DURATION:PT30M
END:VEVENT
BEGIN:VEVENT
UID:sabre-vobject-22f4a343-fd74-4ccc-b824-c002043dea58
DTSTAMP:20260424T124602Z
SUMMARY:Rosenkranz
DESCRIPTION:https://pg-lechrain.de/rosenkranz_id45025
DTSTART;TZID=Europe/Berlin:20260430T183000
DURATION:PT30M
END:VEVENT
BEGIN:VEVENT
UID:sabre-vobject-84561500-ac2e-4f0f-9d4f-2c71b9172f29
DTSTAMP:20260424T124602Z
SUMMARY:Rosenkranz
DESCRIPTION:https://pg-lechrain.de/rosenkranz_id45044
DTSTART;TZID=Europe/Berlin:20260430T183000
DURATION:PT30M
END:VEVENT
BEGIN:VEVENT
UID:sabre-vobject-f28d93eb-d369-450c-807f-9bcbd2b9b271
DTSTAMP:20260424T124602Z
SUMMARY:Abendmesse
DESCRIPTION:https://pg-lechrain.de/abendmesse_id45026
DTSTART;TZID=Europe/Berlin:20260430T190000
DURATION:PT30M
END:VEVENT
BEGIN:VEVENT
UID:sabre-vobject-ef96d0d6-a54d-4565-b095-67c31b425704
DTSTAMP:20260424T124602Z
SUMMARY:Abendmesse
DESCRIPTION:https://pg-lechrain.de/abendmesse_id45050
DTSTART;TZID=Europe/Berlin:20260430T190000
DURATION:PT30M
END:VEVENT
BEGIN:VEVENT
UID:sabre-vobject-482f13bb-ea3f-4297-866a-d353d58809b6
DTSTAMP:20260424T124602Z
SUMMARY:Messfeier am Maibaum
DESCRIPTION:https://pg-lechrain.de/messfeier-am-maibaum_id45029
DTSTART;TZID=Europe/Berlin:20260501T101500
DURATION:PT30M
END:VEVENT
BEGIN:VEVENT
UID:sabre-vobject-271922ff-a2d4-4f32-8a60-66a5821d79a8
DTSTAMP:20260424T124602Z
SUMMARY:Feierliche Maiandacht
DESCRIPTION:https://pg-lechrain.de/feierliche-maiandacht_id45003
DTSTART;TZID=Europe/Berlin:20260501T183000
DURATION:PT30M
END:VEVENT
BEGIN:VEVENT
UID:sabre-vobject-ccc51103-6e66-4e35-80a3-a9a8ecd986ad
DTSTAMP:20260424T124602Z
SUMMARY:Maiandacht in der Haldenkapelle
DESCRIPTION:https://pg-lechrain.de/maiandacht-in-der-haldenkapelle_id45010
DTSTART;TZID=Europe/Berlin:20260501T190000
DURATION:PT30M
END:VEVENT
BEGIN:VEVENT
UID:sabre-vobject-d0760572-1bc8-4e38-988b-f543549677b6
DTSTAMP:20260424T124602Z
SUMMARY:Maiandacht
DESCRIPTION:https://pg-lechrain.de/maiandacht_id45042
DTSTART;TZID=Europe/Berlin:20260501T190000
DURATION:PT30M
END:VEVENT
BEGIN:VEVENT
UID:sabre-vobject-0d388927-314b-4be9-abc0-0669befb42f8
DTSTAMP:20260424T124602Z
SUMMARY:Maiandacht
DESCRIPTION:https://pg-lechrain.de/maiandacht_id45049
DTSTART;TZID=Europe/Berlin:20260501T190000
DURATION:PT30M
END:VEVENT
END:VCALENDAR
